BEGIN:VCALENDAR
VERSION:2.0
PRODID:-//Edlio Inc//Edlio Calendar//EN
CALSCALE:GREGORIAN
METHOD:PUBLISH
X-WR-CALNAME:Hamilton Elementary School Edlio!!! - Kathy's Test Microsoft
X-ORIGINAL-URL:http://www.hamiltonelementary.org
X-WR-CALDESC:Events calendar for www.hamiltonelementary.org
X-WR-TIMEZONE:US/Central
REFRESH-INTERVAL;VALUE=DURATION:PT1H
X-Robots-Tag:noindex
X-PUBLISHED-TTL:PT1H
BEGIN:VTIMEZONE
TZID:US/Central
BEGIN:STANDARD
TZOFFSETFROM:-0500
TZOFFSETTO:-0600
DTSTART:20071104T020000
RRULE:FREQ=YEARLY;BYMONTH=11;BYDAY=1SU
END:STANDARD
BEGIN:DAYLIGHT
TZOFFSETFROM:-0600
TZOFFSETTO:-0500
DTSTART:20070311T020000
RRULE:FREQ=YEARLY;BYMONTH=3;BYDAY=2SU
END:DAYLIGHT
END:VTIMEZONE
BEGIN:VTIMEZONE
TZID:US/East-Indiana
BEGIN:STANDARD
TZOFFSETFROM:-0500
TZOFFSETTO:-0500
DTSTART:19701025T020000
END:STANDARD
END:VTIMEZONE
BEGIN:VTIMEZONE
TZID:US/Eastern
BEGIN:STANDARD
TZOFFSETFROM:-0400
TZOFFSETTO:-0500
DTSTART:19701025T020000
RRULE:FREQ=YEARLY;BYMONTH=10;BYDAY=-1SU;UNTIL=20070311T020000
END:STANDARD
BEGIN:STANDARD
TZOFFSETFROM:-0400
TZOFFSETTO:-0500
DTSTART:20071104T020000
RRULE:FREQ=YEARLY;BYMONTH=11;BYDAY=1SU
END:STANDARD
BEGIN:DAYLIGHT
TZOFFSETFROM:-0500
TZOFFSETTO:-0400
DTSTART:19870405T020000
RRULE:FREQ=YEARLY;BYMONTH=4;BYDAY=1SU;UNTIL=20061029T020000
END:DAYLIGHT
BEGIN:DAYLIGHT
TZOFFSETFROM:-0500
TZOFFSETTO:-0400
DTSTART:20070311T020000
RRULE:FREQ=YEARLY;BYMONTH=3;BYDAY=2SU
END:DAYLIGHT
END:VTIMEZONE
BEGIN:VTIMEZONE
TZID:US/Michigan
BEGIN:STANDARD
TZOFFSETFROM:-0400
TZOFFSETTO:-0500
DTSTART:19701025T020000
RRULE:FREQ=YEARLY;BYMONTH=10;BYDAY=-1SU;UNTIL=20070311T020000
END:STANDARD
BEGIN:STANDARD
TZOFFSETFROM:-0400
TZOFFSETTO:-0500
DTSTART:20071104T020000
RRULE:FREQ=YEARLY;BYMONTH=11;BYDAY=1SU
END:STANDARD
BEGIN:DAYLIGHT
TZOFFSETFROM:-0500
TZOFFSETTO:-0400
DTSTART:19870405T020000
RRULE:FREQ=YEARLY;BYMONTH=4;BYDAY=1SU;UNTIL=20061029T020000
END:DAYLIGHT
BEGIN:DAYLIGHT
TZOFFSETFROM:-0500
TZOFFSETTO:-0400
DTSTART:20070311T020000
RRULE:FREQ=YEARLY;BYMONTH=3;BYDAY=2SU
END:DAYLIGHT
END:VTIMEZONE
BEGIN:VTIMEZONE
TZID:US/Central
BEGIN:STANDARD
TZOFFSETFROM:-0500
TZOFFSETTO:-0600
DTSTART:19701025T020000
RRULE:FREQ=YEARLY;BYMONTH=10;BYDAY=-1SU;UNTIL=20070311T020000
END:STANDARD
BEGIN:STANDARD
TZOFFSETFROM:-0500
TZOFFSETTO:-0600
DTSTART:20071104T020000
RRULE:FREQ=YEARLY;BYMONTH=11;BYDAY=1SU
END:STANDARD
BEGIN:DAYLIGHT
TZOFFSETFROM:-0600
TZOFFSETTO:-0500
DTSTART:19870405T020000
RRULE:FREQ=YEARLY;BYMONTH=4;BYDAY=1SU;UNTIL=20061029T020000
END:DAYLIGHT
BEGIN:DAYLIGHT
TZOFFSETFROM:-0600
TZOFFSETTO:-0500
DTSTART:20070311T020000
RRULE:FREQ=YEARLY;BYMONTH=3;BYDAY=2SU
END:DAYLIGHT
END:VTIMEZONE
BEGIN:VTIMEZONE
TZID:US/Mountain
BEGIN:STANDARD
TZOFFSETFROM:-0600
TZOFFSETTO:-0700
DTSTART:19701025T020000
RRULE:FREQ=YEARLY;BYMONTH=10;BYDAY=-1SU;UNTIL=20070311T020000
END:STANDARD
BEGIN:STANDARD
TZOFFSETFROM:-0600
TZOFFSETTO:-0700
DTSTART:20071104T020000
RRULE:FREQ=YEARLY;BYMONTH=11;BYDAY=1SU
END:STANDARD
BEGIN:DAYLIGHT
TZOFFSETFROM:-0700
TZOFFSETTO:-0600
DTSTART:19870405T020000
RRULE:FREQ=YEARLY;BYMONTH=4;BYDAY=1SU;UNTIL=20061029T020000
END:DAYLIGHT
BEGIN:DAYLIGHT
TZOFFSETFROM:-0700
TZOFFSETTO:-0600
DTSTART:20070311T020000
RRULE:FREQ=YEARLY;BYMONTH=3;BYDAY=2SU
END:DAYLIGHT
END:VTIMEZONE
BEGIN:VTIMEZONE
TZID:US/Arizona
BEGIN:STANDARD
TZOFFSETFROM:-0700
TZOFFSETTO:-0700
DTSTART:19701025T020000
END:STANDARD
END:VTIMEZONE
BEGIN:VTIMEZONE
TZID:US/Pacific
BEGIN:STANDARD
TZOFFSETFROM:-0700
TZOFFSETTO:-0800
DTSTART:19701025T020000
RRULE:FREQ=YEARLY;BYMONTH=10;BYDAY=-1SU;UNTIL=20070311T020000
END:STANDARD
BEGIN:STANDARD
TZOFFSETFROM:-0700
TZOFFSETTO:-0800
DTSTART:20071104T020000
RRULE:FREQ=YEARLY;BYMONTH=11;BYDAY=1SU
END:STANDARD
BEGIN:DAYLIGHT
TZOFFSETFROM:-0800
TZOFFSETTO:-0700
DTSTART:19870405T020000
RRULE:FREQ=YEARLY;BYMONTH=4;BYDAY=1SU;UNTIL=20061029T020000
END:DAYLIGHT
BEGIN:DAYLIGHT
TZOFFSETFROM:-0800
TZOFFSETTO:-0700
DTSTART:20070311T020000
RRULE:FREQ=YEARLY;BYMONTH=3;BYDAY=2SU
END:DAYLIGHT
END:VTIMEZONE
BEGIN:VTIMEZONE
TZID:US/Alaska
BEGIN:STANDARD
TZOFFSETFROM:-0800
TZOFFSETTO:-0900
DTSTART:19701025T020000
RRULE:FREQ=YEARLY;BYMONTH=10;BYDAY=-1SU;UNTIL=20070311T020000
END:STANDARD
BEGIN:STANDARD
TZOFFSETFROM:-0800
TZOFFSETTO:-0900
DTSTART:20071104T020000
RRULE:FREQ=YEARLY;BYMONTH=11;BYDAY=1SU
END:STANDARD
BEGIN:DAYLIGHT
TZOFFSETFROM:-0900
TZOFFSETTO:-0800
DTSTART:19870405T020000
RRULE:FREQ=YEARLY;BYMONTH=4;BYDAY=1SU;UNTIL=20061029T020000
END:DAYLIGHT
BEGIN:DAYLIGHT
TZOFFSETFROM:-0900
TZOFFSETTO:-0800
DTSTART:20070311T020000
RRULE:FREQ=YEARLY;BYMONTH=3;BYDAY=2SU
END:DAYLIGHT
END:VTIMEZONE
BEGIN:VTIMEZONE
TZID:US/Hawaii
BEGIN:STANDARD
TZOFFSETFROM:-1000
TZOFFSETTO:-1000
DTSTART:19701025T020000
END:STANDARD
END:VTIMEZONE
BEGIN:VTIMEZONE
TZID:US/Aleutian
BEGIN:STANDARD
TZOFFSETFROM:-1000
TZOFFSETTO:-1000
DTSTART:19701025T020000
END:STANDARD
END:VTIMEZONE
BEGIN:VTIMEZONE
TZID:US/Samoa
BEGIN:STANDARD
TZOFFSETFROM:-1100
TZOFFSETTO:-1100
DTSTART:19701025T020000
END:STANDARD
END:VTIMEZONE
BEGIN:VEVENT
UID:35758493@www.hamiltonelementary.org#20251013
SEQUENCE:0
CREATED:20251218T161524Z
LAST-MODIFIED:20251218T161524Z
DTSTART;VALUE=DATE:20251013
DURATION:P1D
SUMMARY:County Wide PD Day
CATEGORIES:Kathy's Test Microsoft
URL:http://www.hamiltonelementary.org/apps/events/35758493/
ORGANIZER;CN="Edlio Calendar":MAILTO:noreply@www.hamiltonelementary.org
DTSTAMP:20260425T101913Z
END:VEVENT
BEGIN:VEVENT
UID:35758503@www.hamiltonelementary.org#20251031
SEQUENCE:0
CREATED:20251218T161524Z
LAST-MODIFIED:20251218T161524Z
DTSTART;VALUE=DATE:20251031
DURATION:P1D
SUMMARY:End of 1st 9 weeks
CATEGORIES:Kathy's Test Microsoft
URL:http://www.hamiltonelementary.org/apps/events/35758503/
ORGANIZER;CN="Edlio Calendar":MAILTO:noreply@www.hamiltonelementary.org
DTSTAMP:20260425T101913Z
END:VEVENT
BEGIN:VEVENT
UID:35758498@www.hamiltonelementary.org#20250902
SEQUENCE:0
CREATED:20251218T161524Z
LAST-MODIFIED:20251218T161524Z
DTSTART;VALUE=DATE:20250902
DURATION:P1D
SUMMARY:First Day of School
CATEGORIES:Kathy's Test Microsoft
URL:http://www.hamiltonelementary.org/apps/events/35758498/
ORGANIZER;CN="Edlio Calendar":MAILTO:noreply@www.hamiltonelementary.org
DTSTAMP:20260425T101913Z
END:VEVENT
BEGIN:VEVENT
UID:35758504@www.hamiltonelementary.org#20250821
SEQUENCE:0
CREATED:20251218T161524Z
LAST-MODIFIED:20251218T161524Z
DTSTART;VALUE=DATE:20250821
DURATION:P1D
SUMMARY:Meet the Teacher/Open House
CATEGORIES:Kathy's Test Microsoft
URL:http://www.hamiltonelementary.org/apps/events/35758504/
ORGANIZER;CN="Edlio Calendar":MAILTO:noreply@www.hamiltonelementary.org
DTSTAMP:20260425T101913Z
END:VEVENT
BEGIN:VEVENT
UID:35758501@www.hamiltonelementary.org#20251113
SEQUENCE:0
CREATED:20251218T161524Z
LAST-MODIFIED:20251218T161524Z
DTSTART;VALUE=DATE:20251113
DURATION:P1D
SUMMARY:P/T Conferences full day
CATEGORIES:Kathy's Test Microsoft
URL:http://www.hamiltonelementary.org/apps/events/35758501/
ORGANIZER;CN="Edlio Calendar":MAILTO:noreply@www.hamiltonelementary.org
DTSTAMP:20260425T101913Z
END:VEVENT
BEGIN:VEVENT
UID:35758491@www.hamiltonelementary.org#20250822
SEQUENCE:0
CREATED:20251218T161524Z
LAST-MODIFIED:20251218T161524Z
DTSTART;VALUE=DATE:20250822
DURATION:P1D
SUMMARY:PD/Collaboration
CATEGORIES:Kathy's Test Microsoft
URL:http://www.hamiltonelementary.org/apps/events/35758491/
ORGANIZER;CN="Edlio Calendar":MAILTO:noreply@www.hamiltonelementary.org
DTSTAMP:20260425T101913Z
END:VEVENT
BEGIN:VEVENT
UID:35758497@www.hamiltonelementary.org#20250820
SEQUENCE:0
CREATED:20251218T161524Z
LAST-MODIFIED:20251218T161524Z
DTSTART;VALUE=DATE:20250820
DURATION:P1D
SUMMARY:PD/Collaboration
CATEGORIES:Kathy's Test Microsoft
URL:http://www.hamiltonelementary.org/apps/events/35758497/
ORGANIZER;CN="Edlio Calendar":MAILTO:noreply@www.hamiltonelementary.org
DTSTAMP:20260425T101913Z
END:VEVENT
BEGIN:VEVENT
UID:35758510@www.hamiltonelementary.org#20250819
SEQUENCE:0
CREATED:20251218T161524Z
LAST-MODIFIED:20251218T161524Z
DTSTART;VALUE=DATE:20250819
DURATION:P1D
SUMMARY:PD/Collaboration
CATEGORIES:Kathy's Test Microsoft
URL:http://www.hamiltonelementary.org/apps/events/35758510/
ORGANIZER;CN="Edlio Calendar":MAILTO:noreply@www.hamiltonelementary.org
DTSTAMP:20260425T101913Z
END:VEVENT
BEGIN:VEVENT
UID:35758512@www.hamiltonelementary.org#20250818
SEQUENCE:0
CREATED:20251218T161524Z
LAST-MODIFIED:20251218T161524Z
DTSTART;VALUE=DATE:20250818
DURATION:P1D
SUMMARY:Teacher Workday
CATEGORIES:Kathy's Test Microsoft
URL:http://www.hamiltonelementary.org/apps/events/35758512/
ORGANIZER;CN="Edlio Calendar":MAILTO:noreply@www.hamiltonelementary.org
DTSTAMP:20260425T101913Z
END:VEVENT
BEGIN:VEVENT
UID:21678854@www.hamiltonelementary.org#20250110
SEQUENCE:0
CREATED:20250210T221927Z
LAST-MODIFIED:20250210T221927Z
DTSTART;TZID=US/Central:20250110T163000
DTEND;TZID=US/Central:20250110T170000
EXDATE;TZID=US/Central:20250110T163000
RRULE:FREQ=MONTHLY;UNTIL=20250410T065959Z;WKST=SU
SUMMARY:JTEST - 3 From Google!
CATEGORIES:Kathy's Test Microsoft
URL:http://www.hamiltonelementary.org/apps/events/21678854/
ORGANIZER;CN="Edlio Calendar":MAILTO:noreply@www.hamiltonelementary.org
DTSTAMP:20260425T101913Z
END:VEVENT
BEGIN:VEVENT
UID:21678872@www.hamiltonelementary.org#20250410
SEQUENCE:0
CREATED:20250210T221927Z
LAST-MODIFIED:20250210T221927Z
DTSTART;TZID=US/Central:20250410T163000
DTEND;TZID=US/Central:20250410T170000
RRULE:FREQ=MONTHLY;UNTIL=20250313T065959Z;WKST=SU
SUMMARY:JTEST - 3 From Google!
CATEGORIES:Kathy's Test Microsoft
URL:http://www.hamiltonelementary.org/apps/events/21678872/
ORGANIZER;CN="Edlio Calendar":MAILTO:noreply@www.hamiltonelementary.org
DTSTAMP:20260425T101913Z
END:VEVENT
END:VCALENDAR
